BEGIN:VCALENDAR
VERSION:2.0
PRODID:-//pretix//i-TICKET//
BEGIN:VTIMEZONE
TZID:Europe/Berlin
BEGIN:STANDARD
DTSTART:20001029T040000
RRULE:FREQ=YEARLY;BYDAY=-1SU;BYMONTH=10
TZNAME:CET
TZOFFSETFROM:+0200
TZOFFSETTO:+0100
END:STANDARD
BEGIN:DAYLIGHT
DTSTART:20000326T030000
RRULE:FREQ=YEARLY;BYDAY=-1SU;BYMONTH=3
TZNAME:CEST
TZOFFSETFROM:+0100
TZOFFSETTO:+0200
END:DAYLIGHT
END:VTIMEZONE
BEGIN:VEVENT
UID:pretix-mucom-guitarsummitws-2-4827@i-ticket.app
DTSTART;TZID=Europe/Berlin:20250921T150000
DTEND;TZID=Europe/Berlin:20250921T180000
DESCRIPTION:Tickets: https://i-ticket.app/mucom/guitarsummitws-2/4827/\nVer
 anstalter: Music Commission Mannheim e.V.
DTSTAMP:20260421T015844Z
LOCATION:JON school for music & writing\, R7\, 39 68161 Mannheim
SUMMARY:🎤 How to Build a Killer Live Show by Cris Cosmo
END:VEVENT
END:VCALENDAR
